BEGIN:VCALENDAR
VERSION:2.0
PRODID:icalendar-ruby
CALSCALE:GREGORIAN
METHOD:PUBLISH
BEGIN:VEVENT
DTSTAMP:20260420T043646Z
UID:314-13524015@ststephensucqualicum.ca
DTSTART:20261101T190000Z
DTEND:20261101T200000Z
CLASS:PUBLIC
CREATED:20260419T212657
DESCRIPTION:At St. Stephen's we have a value of Diversity in Worship.  The
  11am service is more traditional and is led muscially by a choir accompan
 ied by organ or piano.  All are welcome!
LAST-MODIFIED:20260419T212657
LOCATION:St Stephen's 
SUMMARY:11 AM Worship Service
URL;VALUE=URI:https://www.ststephensucqualicum.ca/events/11-am-worship-serv
 ice--314/2026-11-01
END:VEVENT
END:VCALENDAR
