BEGIN:VCALENDAR
VERSION:2.0
PRODID:icalendar-ruby
CALSCALE:GREGORIAN
METHOD:PUBLISH
BEGIN:VEVENT
DTSTAMP:20260420T012603Z
UID:314-13517143@ststephensucqualicum.ca
DTSTART:20261018T180000Z
DTEND:20261018T190000Z
CLASS:PUBLIC
CREATED:20260419T175005
DESCRIPTION:At St. Stephen's we have a value of Diversity in Worship.  The
  11am service is more traditional and is led muscially by a choir accompan
 ied by organ or piano.  All are welcome!
LAST-MODIFIED:20260419T175005
LOCATION:St Stephen's 
SUMMARY:11 AM Worship Service
URL;VALUE=URI:https://www.ststephensucqualicum.ca/events/11-am-worship-serv
 ice--314/2026-10-18
END:VEVENT
END:VCALENDAR
